BEGIN:VCALENDAR
VERSION:2.0
PRODID:-//Theo-Hespers-Gesamtschule//Schulkalender 2025-2026//DE
CALSCALE:GREGORIAN
METHOD:PUBLISH
X-WR-CALNAME:THG Schulkalender 2025/2026
X-WR-TIMEZONE:Europe/Berlin
X-WR-CALDESC:Schulkalender der Theo-Hespers-Gesamtschule Mönchengladbach

BEGIN:VTIMEZONE
TZID:Europe/Berlin
BEGIN:STANDARD
TZOFFSETFROM:+0200
TZOFFSETTO:+0100
TZNAME:CET
DTSTART:19701025T030000
RRULE:FREQ=YEARLY;BYDAY=-1SU;BYMONTH=10
END:STANDARD
BEGIN:DAYLIGHT
TZOFFSETFROM:+0100
TZOFFSETTO:+0200
TZNAME:CEST
DTSTART:19700329T020000
RRULE:FREQ=YEARLY;BYDAY=-1SU;BYMONTH=3
END:DAYLIGHT
END:VTIMEZONE

BEGIN:VEVENT
UID:THG-001@theo-hespers-gesamtschule.de
DTSTAMP:20260416T120000Z
DTSTART;TZID=Europe/Berlin:20260204T130000
DTEND;TZID=Europe/Berlin:20260204T140000
SUMMARY:Unterrichtsende 13:00 Uhr (Mittwoch)
DESCRIPTION:In der Woche 2.–6. Februar endet der Unterricht am Mittwoch bereits um 13:00 Uhr.
CATEGORIES:THG Schule
END:VEVENT

BEGIN:VEVENT
UID:THG-002@theo-hespers-gesamtschule.de
DTSTAMP:20260416T120000Z
DTSTART;TZID=Europe/Berlin:20260212T101500
DTEND;TZID=Europe/Berlin:20260212T121000
SUMMARY:Karnevalsparty Jahrgänge 5–7
DESCRIPTION:Karnevalsparty für die Jahrgänge 5 bis 7 (10:15–12:10 Uhr). Schulschluss für die Jahrgänge 8 bis 10 um 10:15 Uhr.
CATEGORIES:THG Schule
END:VEVENT

BEGIN:VEVENT
UID:THG-003@theo-hespers-gesamtschule.de
DTSTAMP:20260416T120000Z
DTSTART;VALUE=DATE:20260213
DTEND;VALUE=DATE:20260214
SUMMARY:Schulfreier Tag
DESCRIPTION:Schulfreier Tag (Freitag vor Karneval)
CATEGORIES:THG Schule,Schulfrei
END:VEVENT

BEGIN:VEVENT
UID:THG-004@theo-hespers-gesamtschule.de
DTSTAMP:20260416T120000Z
DTSTART;VALUE=DATE:20260216
DTEND;VALUE=DATE:20260218
SUMMARY:Schulfreie Tage – Karneval
DESCRIPTION:Schulfreie Tage: Montag, 16. und Dienstag, 17. Februar 2026 (Karneval)
CATEGORIES:THG Schule,Schulfrei
END:VEVENT

BEGIN:VEVENT
UID:THG-005@theo-hespers-gesamtschule.de
DTSTAMP:20260416T120000Z
DTSTART;VALUE=DATE:20260218
DTEND;VALUE=DATE:20260219
SUMMARY:Studientag
DESCRIPTION:Studientag für das Kollegium (Mittwoch, 18. Februar 2026)
CATEGORIES:THG Schule
END:VEVENT

BEGIN:VEVENT
UID:THG-006@theo-hespers-gesamtschule.de
DTSTAMP:20260416T120000Z
DTSTART;VALUE=DATE:20260219
DTEND;VALUE=DATE:20260221
SUMMARY:Workshops zur Herausforderung – Jahrgang 8
DESCRIPTION:Workshops zur Herausforderung für den Jahrgang 8 (Donnerstag, 19. und Freitag, 20. Februar 2026)
CATEGORIES:THG Schule
END:VEVENT

BEGIN:VEVENT
UID:THG-007@theo-hespers-gesamtschule.de
DTSTAMP:20260416T120000Z
DTSTART;TZID=Europe/Berlin:20260226T140000
DTEND;TZID=Europe/Berlin:20260226T160000
SUMMARY:Elterncafé Jahrgangshaus 5/6
DESCRIPTION:Elterncafé im Jahrgangshaus 5/6 (14:00–16:00 Uhr)
CATEGORIES:THG Schule,Eltern
END:VEVENT

BEGIN:VEVENT
UID:THG-008@theo-hespers-gesamtschule.de
DTSTAMP:20260416T120000Z
DTSTART;VALUE=DATE:20260311
DTEND;VALUE=DATE:20260312
SUMMARY:Zertifikatsstichtag (IV) – Jahrgänge 5–8
DESCRIPTION:Zertifikatsstichtag (IV) für die Jahrgänge 5 bis 8 (Mittwoch, 11. März 2026)
CATEGORIES:THG Schule,Zertifikat
END:VEVENT

BEGIN:VEVENT
UID:THG-009@theo-hespers-gesamtschule.de
DTSTAMP:20260416T120000Z
DTSTART;VALUE=DATE:20260313
DTEND;VALUE=DATE:20260314
SUMMARY:Gemeinsames Fastenbrechen (Schulsozialarbeit)
DESCRIPTION:Gemeinsames Fastenbrechen, organisiert von der Schulsozialarbeit (Freitag, 13. März 2026)
CATEGORIES:THG Schule
END:VEVENT

BEGIN:VEVENT
UID:THG-010@theo-hespers-gesamtschule.de
DTSTAMP:20260416T120000Z
DTSTART;TZID=Europe/Berlin:20260326T140000
DTEND;TZID=Europe/Berlin:20260326T160000
SUMMARY:Elterncafé Jahrgangshaus 5/6
DESCRIPTION:Elterncafé im Jahrgangshaus 5/6 (14:00–16:00 Uhr)
CATEGORIES:THG Schule,Eltern
END:VEVENT

BEGIN:VEVENT
UID:THG-011@theo-hespers-gesamtschule.de
DTSTAMP:20260416T120000Z
DTSTART;VALUE=DATE:20260330
DTEND;VALUE=DATE:20260413
SUMMARY:Osterferien
DESCRIPTION:Osterferien (30. März bis 12. April 2026). Schulbeginn wieder am Montag, 13. April 2026.
CATEGORIES:THG Schule,Ferien
END:VEVENT

BEGIN:VEVENT
UID:THG-012@theo-hespers-gesamtschule.de
DTSTAMP:20260416T120000Z
DTSTART;VALUE=DATE:20260413
DTEND;VALUE=DATE:20260414
SUMMARY:Schulbeginn nach den Osterferien
DESCRIPTION:Erster Schultag nach den Osterferien (Montag, 13. April 2026)
CATEGORIES:THG Schule
END:VEVENT

BEGIN:VEVENT
UID:THG-013@theo-hespers-gesamtschule.de
DTSTAMP:20260416T120000Z
DTSTART;VALUE=DATE:20260427
DTEND;VALUE=DATE:20260428
SUMMARY:Infoabend Wahlpflichtfach – Eltern Stufe 6
DESCRIPTION:Infoabend zum Wahlpflichtfach für Eltern der Stufe 6 (Montag, 27. April 2026)
CATEGORIES:THG Schule,Eltern
END:VEVENT

BEGIN:VEVENT
UID:THG-014@theo-hespers-gesamtschule.de
DTSTAMP:20260416T120000Z
DTSTART;VALUE=DATE:20260429
DTEND;VALUE=DATE:20260430
SUMMARY:Abgabe der Bausteine (Halbjahr)
DESCRIPTION:Abgabe der Bausteine aus diesem Halbjahr (Mittwoch, 29. April 2026)
CATEGORIES:THG Schule
END:VEVENT

BEGIN:VEVENT
UID:THG-015@theo-hespers-gesamtschule.de
DTSTAMP:20260416T120000Z
DTSTART;TZID=Europe/Berlin:20260430T140000
DTEND;TZID=Europe/Berlin:20260430T160000
SUMMARY:Elterncafé Jahrgangshaus 5/6
DESCRIPTION:Elterncafé im Jahrgangshaus 5/6 (14:00–16:00 Uhr)
CATEGORIES:THG Schule,Eltern
END:VEVENT

BEGIN:VEVENT
UID:THG-016@theo-hespers-gesamtschule.de
DTSTAMP:20260416T120000Z
DTSTART;VALUE=DATE:20260430
DTEND;VALUE=DATE:20260501
SUMMARY:Zertifikatsstichtag (V) – Jahrgänge 5–8
DESCRIPTION:Zertifikatsstichtag (V) für die Jahrgänge 5 bis 8 (Donnerstag, 30. April 2026)
CATEGORIES:THG Schule,Zertifikat
END:VEVENT

BEGIN:VEVENT
UID:THG-017@theo-hespers-gesamtschule.de
DTSTAMP:20260416T120000Z
DTSTART;VALUE=DATE:20260501
DTEND;VALUE=DATE:20260502
SUMMARY:Tag der Arbeit – Schulfrei
DESCRIPTION:Tag der Arbeit, gesetzlicher Feiertag (Freitag, 1. Mai 2026)
CATEGORIES:THG Schule,Schulfrei,Feiertag
END:VEVENT

BEGIN:VEVENT
UID:THG-018@theo-hespers-gesamtschule.de
DTSTAMP:20260416T120000Z
DTSTART;VALUE=DATE:20260505
DTEND;VALUE=DATE:20260507
SUMMARY:Bilanz- und Zielgespräche
DESCRIPTION:Bilanz- und Zielgespräche (Dienstag, 5. und Mittwoch, 6. Mai 2026)
CATEGORIES:THG Schule
END:VEVENT

BEGIN:VEVENT
UID:THG-019@theo-hespers-gesamtschule.de
DTSTAMP:20260416T120000Z
DTSTART;VALUE=DATE:20260514
DTEND;VALUE=DATE:20260516
SUMMARY:Schulfreie Tage – Christi Himmelfahrt
DESCRIPTION:Schulfreie Tage: Donnerstag, 14. und Freitag, 15. Mai 2026 (Christi Himmelfahrt)
CATEGORIES:THG Schule,Schulfrei,Feiertag
END:VEVENT

BEGIN:VEVENT
UID:THG-020@theo-hespers-gesamtschule.de
DTSTAMP:20260416T120000Z
DTSTART;VALUE=DATE:20260525
DTEND;VALUE=DATE:20260527
SUMMARY:Schulfreie Tage – Pfingsten
DESCRIPTION:Schulfreie Tage: Montag, 25. und Dienstag, 26. Mai 2026 (Pfingsten)
CATEGORIES:THG Schule,Schulfrei,Feiertag
END:VEVENT

BEGIN:VEVENT
UID:THG-021@theo-hespers-gesamtschule.de
DTSTAMP:20260416T120000Z
DTSTART;TZID=Europe/Berlin:20260528T140000
DTEND;TZID=Europe/Berlin:20260528T160000
SUMMARY:Elterncafé Jahrgangshaus 5/6
DESCRIPTION:Elterncafé im Jahrgangshaus 5/6 (14:00–16:00 Uhr)
CATEGORIES:THG Schule,Eltern
END:VEVENT

BEGIN:VEVENT
UID:THG-022@theo-hespers-gesamtschule.de
DTSTAMP:20260416T120000Z
DTSTART;VALUE=DATE:20260604
DTEND;VALUE=DATE:20260606
SUMMARY:Schulfreie Tage – Fronleichnam
DESCRIPTION:Schulfreie Tage: Donnerstag, 4. und Freitag, 5. Juni 2026 (Fronleichnam)
CATEGORIES:THG Schule,Schulfrei,Feiertag
END:VEVENT

BEGIN:VEVENT
UID:THG-023@theo-hespers-gesamtschule.de
DTSTAMP:20260416T120000Z
DTSTART;VALUE=DATE:20260612
DTEND;VALUE=DATE:20260613
SUMMARY:Studientag (für SuS)
DESCRIPTION:Studientag für Schülerinnen und Schüler (Freitag, 12. Juni 2026)
CATEGORIES:THG Schule
END:VEVENT

BEGIN:VEVENT
UID:THG-024@theo-hespers-gesamtschule.de
DTSTAMP:20260416T120000Z
DTSTART;VALUE=DATE:20260625
DTEND;VALUE=DATE:20260626
SUMMARY:Zertifikatsstichtag (VI) – Jahrgänge 5–9
DESCRIPTION:Zertifikatsstichtag (VI) für die Jahrgänge 5 bis 9 (Donnerstag, 25. Juni 2026)
CATEGORIES:THG Schule,Zertifikat
END:VEVENT

BEGIN:VEVENT
UID:THG-025@theo-hespers-gesamtschule.de
DTSTAMP:20260416T120000Z
DTSTART;TZID=Europe/Berlin:20260625T140000
DTEND;TZID=Europe/Berlin:20260625T160000
SUMMARY:Elterncafé Jahrgangshaus 5/6
DESCRIPTION:Elterncafé im Jahrgangshaus 5/6 (14:00–16:00 Uhr)
CATEGORIES:THG Schule,Eltern
END:VEVENT

BEGIN:VEVENT
UID:THG-026@theo-hespers-gesamtschule.de
DTSTAMP:20260416T120000Z
DTSTART;VALUE=DATE:20260708
DTEND;VALUE=DATE:20260709
SUMMARY:Sponsored Walk
DESCRIPTION:Sponsored Walk der Theo-Hespers-Gesamtschule (Mittwoch, 8. Juli 2026)
CATEGORIES:THG Schule
END:VEVENT

BEGIN:VEVENT
UID:THG-027@theo-hespers-gesamtschule.de
DTSTAMP:20260416T120000Z
DTSTART;VALUE=DATE:20260709
DTEND;VALUE=DATE:20260710
SUMMARY:Studientag
DESCRIPTION:Studientag (Donnerstag, 9. Juli 2026)
CATEGORIES:THG Schule
END:VEVENT

BEGIN:VEVENT
UID:THG-028@theo-hespers-gesamtschule.de
DTSTAMP:20260416T120000Z
DTSTART;VALUE=DATE:20260713
DTEND;VALUE=DATE:20260718
SUMMARY:Unterricht nur im Klassenverband
DESCRIPTION:13.–17. Juli 2026: Unterricht findet nur noch im Klassenverband statt.
CATEGORIES:THG Schule
END:VEVENT

BEGIN:VEVENT
UID:THG-029@theo-hespers-gesamtschule.de
DTSTAMP:20260416T120000Z
DTSTART;TZID=Europe/Berlin:20260717T101500
DTEND;TZID=Europe/Berlin:20260717T113000
SUMMARY:Letzter Schultag – Schulschluss 10:15 Uhr
DESCRIPTION:Letzter Schultag vor den Sommerferien. Schulschluss um 10:15 Uhr (Freitag, 17. Juli 2026).
CATEGORIES:THG Schule
END:VEVENT

BEGIN:VEVENT
UID:THG-030@theo-hespers-gesamtschule.de
DTSTAMP:20260416T120000Z
DTSTART;VALUE=DATE:20260902
DTEND;VALUE=DATE:20260903
SUMMARY:Schulbeginn nach den Sommerferien
DESCRIPTION:Erster Schultag nach den Sommerferien (Mittwoch, 2. September 2026)
CATEGORIES:THG Schule
END:VEVENT

END:VCALENDAR
